BEGIN:VCALENDAR
PRODID:-//vBulletin 6//EN
VERSION:2.0
CALSCALE:GREGORIAN
BEGIN:VEVENT
UID:cc2366c6-ad59-41ea-a618-e1f00b88b75d
DTSTAMP:20260423T035007Z
SUMMARY:Gunfight Thursday
DESCRIPTION:Gunfight Thursdays is here\, in just a few more hours we will b
 e tasting bullets. Bring the banter leave the drama \, will kick thinks of
 f from 6 est till late . the reason for this slight time chane is due to t
 he rising number of brits and i would tp get more joint time with you all.
  I will be on from 10 Uk time all the way through \, see you all tonight .
  #DSA #Messy
URL:https://www.darksidealliance.com/node/260426
DTSTART;VALUE=DATE:20200709
LOCATION:Messys house
END:VEVENT
END:VCALENDAR
