BEGIN:VCALENDAR
PRODID:-//vBulletin 6//EN
VERSION:2.0
CALSCALE:GREGORIAN
BEGIN:VEVENT
UID:049d9ad9-4ad6-46ac-9b44-adc0de0a6e1d
DTSTAMP:20260423T065144Z
SUMMARY:Gunfight Thursday 8 est till late
DESCRIPTION:Gunfight Thursday our favourite time of the week\, it's much ne
 eded and I can't wait to drop some fools 8est time till late bring your a 
 game x
URL:https://www.darksidealliance.com/node/260474
DTSTART;VALUE=DATE:20200716
LOCATION:Messys
END:VEVENT
END:VCALENDAR
