BEGIN:VCALENDAR
PRODID:-//vBulletin 6//EN
VERSION:2.0
CALSCALE:GREGORIAN
BEGIN:VEVENT
UID:476219a6-cc1e-4f9a-84c3-bd86a5e4adf2
DTSTAMP:20260423T035001Z
SUMMARY:Saturday Event gamenight
DESCRIPTION:What's good everyone it's that time again for GAMENIGHT. Hosted
  by yours truly DSA Royalty. It will start @9pm or 9:30pm\, it will consis
 t of different game modes such as\, Iinfected\, Infected in the dark\, gun
  game\, One in the chamber\, DODGEBALL\, and going to try out a new game m
 ode i haven't tried yet which is called All or Nothing. Please come out to
  support and let's have a epic night.
URL:https://www.darksidealliance.com/node/260491
DTSTART;VALUE=DATE:20200718
END:VEVENT
END:VCALENDAR
