BEGIN:VCALENDAR
PRODID:-//vBulletin 6//EN
VERSION:2.0
CALSCALE:GREGORIAN
BEGIN:VEVENT
UID:ae355baa-5b10-4e31-87fd-56a3dc78919a
DTSTAMP:20260423T065144Z
SUMMARY:Tuesday's tactics uk eu 8 till 12 uk time
DESCRIPTION:Whats up gang going to be a fun filled night tonight few public
  matches paying attention to any rondo who plays well who isnt in a team a
 lready and has a good attitude see you all soon \;) #DSA
URL:https://www.darksidealliance.com/node/260534
DTSTART;VALUE=DATE:20200728
LOCATION:Messys
END:VEVENT
END:VCALENDAR
