BEGIN:VCALENDAR
PRODID:-//vBulletin 6//EN
VERSION:2.0
CALSCALE:GREGORIAN
BEGIN:VEVENT
UID:f0580f1f-c556-4a5e-a782-15f32004627f
DTSTAMP:20260423T034953Z
SUMMARY:Thursday's madhouse
DESCRIPTION:Tonights game night starts at 8 uk time for the first half then
  from 1am or 8 est time till late for the second half when one of my team 
 members will take over it is not gunfight Thursdays no more but it will st
 ill be included tonight is to clear the air and work on tactics if you can
  not make its cool tell me now and reply on the website regardless \;) tha
 nk you all see you in a few #DSA\, Your General Messy
URL:https://www.darksidealliance.com/node/260544
DTSTART;VALUE=DATE:20200730
END:VEVENT
END:VCALENDAR
