BEGIN:VCALENDAR
PRODID:-//vBulletin 6//EN
VERSION:2.0
CALSCALE:GREGORIAN
BEGIN:VEVENT
UID:8fabde1f-9a44-4fbf-88a1-4f0b722d952f
DTSTAMP:20260423T065137Z
SUMMARY:Tuesday's Takeover
DESCRIPTION:Tuesdays take over \, just a few games with the team but id lik
 e us to keep our eyes open for good players while we stay in game chat and
  lets see about building up the team while shooting up enemy \;) #DSA #UKE
 U 8 till late uk time #Messy
URL:https://www.darksidealliance.com/node/260568
DTSTART;VALUE=DATE:20200804
END:VEVENT
END:VCALENDAR
