BEGIN:VCALENDAR
PRODID:-//vBulletin 6//EN
VERSION:2.0
CALSCALE:GREGORIAN
BEGIN:VEVENT
UID:0339313c-71dd-428c-bb83-53bc054c6132
DTSTAMP:20260423T034956Z
SUMMARY:Twitch it up Thursday
DESCRIPTION:Soooo ive decided to twitch things up \, pun intended . tonight
 s game night will be my first twitch stream camless but heres the deal. pr
 ivate lobby everyones mics on banter live from dsa streaming laughing and 
 shooting playing all modes to fit in with everyones needs . i hope you all
  love the idea and get behind it this could be the start of a fun and ente
 rtaining way to stay active \;) #DSA #DSAUKEU #Messy
URL:https://www.darksidealliance.com/node/260584
DTSTART;VALUE=DATE:20200806
LOCATION:Twitch den
END:VEVENT
END:VCALENDAR
