BEGIN:VCALENDAR
PRODID:-//vBulletin 6//EN
VERSION:2.0
CALSCALE:GREGORIAN
BEGIN:VEVENT
UID:b1b95ae6-0e86-4781-8ed6-3d205e9a89a3
DTSTAMP:20260423T035003Z
SUMMARY:Twitch it up Thursday starting
DESCRIPTION:You know what time it is \, its our favourite time of the week 
 plenty if game modes\, plenty of fun. Been working hard trying to come up 
 woth ways to make nights more entertaining and giving us all stuff to do. 
 Tonights just one of those ideas that came to life come have more fun than
  you can handle #DSA #Style #DSAMESSY 10  uk time till 4am in the morning
URL:https://www.darksidealliance.com/node/260595
DTSTART;VALUE=DATE:20200813
LOCATION:Your mums bedroom
END:VEVENT
END:VCALENDAR
