BEGIN:VCALENDAR
PRODID:-//vBulletin 6//EN
VERSION:2.0
CALSCALE:GREGORIAN
BEGIN:VEVENT
UID:886a75ec-35e9-4ff6-95e2-763a83c2c2bb
DTSTAMP:20260423T035014Z
SUMMARY:Twitch it up Thursday 10 uk time through till the a.m
DESCRIPTION:Once again its Twitch Thursday and i cant wait we have a new fa
 ce joining us tonight WanyeKest lets welcome him properly DSA style 10 uk 
 time through till 3 am will catch the Americans around 8 est x
URL:https://www.darksidealliance.com/node/260628
DTSTART;VALUE=DATE:20200820
LOCATION:Twitch den
END:VEVENT
END:VCALENDAR
