BEGIN:VCALENDAR
PRODID:-//vBulletin 6//EN
VERSION:2.0
CALSCALE:GREGORIAN
BEGIN:VEVENT
UID:c4c6e30e-d1d2-4137-8d55-b0fe23b085f0
DTSTAMP:20260423T035004Z
SUMMARY:Twitch it up Thursday
DESCRIPTION:Super excited for game night tonight guys we should have some n
 ew faces tonight. Remember\, to if you haven't already download and make a
  twitch account\, you can find me @dsamessy on Twitch id like to get round
  to adding all of you and making the views go up for us all see you all to
 night #DSA
URL:https://www.darksidealliance.com/node/260680
DTSTART;VALUE=DATE:20200827
LOCATION:Messys
END:VEVENT
END:VCALENDAR
