BEGIN:VCALENDAR
PRODID:-//vBulletin 6//EN
VERSION:2.0
CALSCALE:GREGORIAN
BEGIN:VEVENT
UID:dae80dd8-ec5d-410d-99f0-fc9a593094c7
DTSTAMP:20260423T021726Z
SUMMARY:Skills in action
DESCRIPTION:Hey guys tonight is about putting our skills into action with s
 earch and destroy and domination\, we will run both core and hardcore for 
 those who only play one or the other. I hope to see some more faces and ho
 pefully we can get a good few matches in starting at 10 uk time or 6est ti
 me till around 4am or 12 est thank you again see you all tonight #DSAMESSY
URL:https://www.darksidealliance.com/node/260696
DTSTART;VALUE=DATE:20200828
LOCATION:Messys house \;)
END:VEVENT
END:VCALENDAR
