BEGIN:VCALENDAR
PRODID:-//vBulletin 6//EN
VERSION:2.0
CALSCALE:GREGORIAN
BEGIN:VEVENT
UID:1a1be310-4dbf-4c73-bb72-071e35f9dc0d
DTSTAMP:20260423T021727Z
SUMMARY:Tuesday's tactics 10 uk time
DESCRIPTION:Tough times require tough soldiers. Tonight we will start with 
 search and destroy in hardcore modes then a bit later head into a private 
 lobby for banter and bullets #DSA
URL:https://www.darksidealliance.com/node/260718
DTSTART;VALUE=DATE:20200901
LOCATION:Your mums bedroom
END:VEVENT
END:VCALENDAR
