BEGIN:VCALENDAR
PRODID:-//vBulletin 6//EN
VERSION:2.0
CALSCALE:GREGORIAN
BEGIN:VEVENT
UID:cfb61e01-614f-4e4a-b62b-6f193656e527
DTSTAMP:20260423T021728Z
SUMMARY:Twitch it up Thursday
DESCRIPTION:Just a casual game night tonight playing search and destroy gun
 fight one in the chamber dom tdm everything you need or want to do \;) #DS
 AMESSY
URL:https://www.darksidealliance.com/node/260732
DTSTART;VALUE=DATE:20200903
LOCATION:Twitch den
END:VEVENT
END:VCALENDAR
