BEGIN:VCALENDAR
PRODID:-//vBulletin 6//EN
VERSION:2.0
CALSCALE:GREGORIAN
BEGIN:VEVENT
UID:f9ea4e69-ffa2-4adc-8ba4-edbd94fe237e
DTSTAMP:20260423T021726Z
SUMMARY:Keeping it casual 10 uk time
DESCRIPTION:Come join us while we grace the lobbies with our presence haha 
 search tdm dom gunfight its all kicking off
URL:https://www.darksidealliance.com/node/260759
DTSTART:20200909T030000Z
DTEND:20200909T060001Z
LOCATION:The battlefield
END:VEVENT
END:VCALENDAR
