BEGIN:VCALENDAR
PRODID:-//vBulletin 6//EN
VERSION:2.0
CALSCALE:GREGORIAN
BEGIN:VEVENT
UID:cad58525-d66e-4059-9396-85bf8e594984
DTSTAMP:20260423T021727Z
SUMMARY:Get Chilled
DESCRIPTION:I just want laughs and a chat tonight let huddle up and get bac
 k to the fun #DSA
URL:https://www.darksidealliance.com/node/260774
DTSTART;VALUE=DATE:20200910
LOCATION:The battlefield
END:VEVENT
END:VCALENDAR
