BEGIN:VCALENDAR
PRODID:-//vBulletin 6//EN
VERSION:2.0
CALSCALE:GREGORIAN
BEGIN:VEVENT
UID:dcab2af3-f85f-4fd3-9aa7-da0162e3a655
DTSTAMP:20260423T021725Z
SUMMARY:Thursday's Thrashings 10uk time
DESCRIPTION:It's great to be back\, I'm in a much better place mentally and
  I'm ready to push forward. Let's have fun tonight and bring back the smil
 es
URL:https://www.darksidealliance.com/node/261023
DTSTART;VALUE=DATE:20201001
LOCATION:Your mums bedroom
END:VEVENT
END:VCALENDAR
