BEGIN:VCALENDAR
PRODID:-//vBulletin 6//EN
VERSION:2.0
CALSCALE:GREGORIAN
BEGIN:VEVENT
UID:3f49d4ac-1736-44a8-ad8a-298f93ad45bd
DTSTAMP:20260423T021726Z
SUMMARY:Dark Thursday 11 uk time till the a.m
DESCRIPTION:Back at it again starting 11 uk time going till the a.m I look 
 forward to gaming with as many as possible\, let's keep it friendly so smi
 le when collecting souls #DSA
URL:https://www.darksidealliance.com/node/261106
DTSTART;VALUE=DATE:20201008
END:VEVENT
END:VCALENDAR
