BEGIN:VCALENDAR
PRODID:-//vBulletin 6//EN
VERSION:2.0
CALSCALE:GREGORIAN
BEGIN:VEVENT
UID:0269cb5d-59b6-4561-b623-60ea17ab4913
DTSTAMP:20260423T021727Z
SUMMARY:Just for the fun at 10 uk time
DESCRIPTION:Tonights game night is all about fun those who show up will be 
 noted and people willing to join me on the regular will start getting the 
 promotions they deserve with the new cod coming soon let's enjoy everythin
 g we love about cod warzone big love Messy
URL:https://www.darksidealliance.com/node/261409
DTSTART;VALUE=DATE:20201029
LOCATION:Messys
END:VEVENT
END:VCALENDAR
