BEGIN:VCALENDAR
PRODID:-//vBulletin 6//EN
VERSION:2.0
CALSCALE:GREGORIAN
BEGIN:VEVENT
UID:300400bd-d80f-4b07-b4c7-a82e8531cd36
DTSTAMP:20260423T021727Z
SUMMARY:Wwii cod charity event 11/1120
DESCRIPTION:So I've decided to make this a game event obviously so this way
  anyone who can make it can click attending to show activity. Remember to 
 respond yes or no so we have a clear view.\n\nMoving on this is an 11 hour
  live stream from twitch on the game WWII CALL OF DUTY\, as the event is f
 or remembrance day I though that game would suit perfectly.\nI hope to see
  as many on as possible but this who can't join remember we are a family a
 t dsa and we help each other out so share share share and when possible do
 nate a pound/ dollar which is roughly the cost of a popper the flower of t
 he fallen \;) #DSA MESSY the link for the charity is below \;) don't forge
 t to share that also x\n\n\n\n\nhttps://www.justgiving.com/fundraising/ant
 ony-trevor-wright3?utm_source=facebook&utm_medium=fundraising &utm_content
 =antony-trevor-wright3&utm_campaign=pfp-share&utm_term=568d24867e1b411fb01
 36b9e982d3592
URL:https://www.darksidealliance.com/node/261461
DTSTART;VALUE=DATE:20201111
LOCATION:The battlefield
END:VEVENT
END:VCALENDAR
