BEGIN:VCALENDAR
PRODID:-//vBulletin 6//EN
VERSION:2.0
CALSCALE:GREGORIAN
BEGIN:VEVENT
UID:07332261-4fc5-4f85-8b0d-6e944b48ce89
DTSTAMP:20260423T021726Z
SUMMARY:10 uk time game night
DESCRIPTION:Nice chilled night I wanna run some objective modes tonight wor
 k on our coms and team work chat soon #DSAMESSY
URL:https://www.darksidealliance.com/node/261482
DTSTART;VALUE=DATE:20201105
LOCATION:The battlefield
END:VEVENT
END:VCALENDAR
